BEGIN:VCALENDAR
VERSION:2.0
PRODID:-//Hush Acoustics USA - ECPv6.15.20//NONSGML v1.0//EN
CALSCALE:GREGORIAN
METHOD:PUBLISH
X-ORIGINAL-URL:https://hushacousticsusa.com
X-WR-CALDESC:Events for Hush Acoustics USA
REFRESH-INTERVAL;VALUE=DURATION:PT1H
X-Robots-Tag:noindex
X-PUBLISHED-TTL:PT1H
BEGIN:VTIMEZONE
TZID:UTC
BEGIN:STANDARD
TZOFFSETFROM:+0000
TZOFFSETTO:+0000
TZNAME:UTC
DTSTART:20230101T000000
END:STANDARD
END:VTIMEZONE
BEGIN:VTIMEZONE
TZID:Asia/Dubai
BEGIN:STANDARD
TZOFFSETFROM:+0400
TZOFFSETTO:+0400
TZNAME:+04
DTSTART:20240101T000000
END:STANDARD
END:VTIMEZONE
BEGIN:VEVENT
DTSTART;VALUE=DATE:20260421
DTEND;VALUE=DATE:20260424
DTSTAMP:20260425T141956
CREATED:20260406T141425Z
LAST-MODIFIED:20260406T141425Z
UID:11222-1776729600-1776988799@hushacousticsusa.com
SUMMARY:AIA Wisconsin Conference + Expo on Architecture
DESCRIPTION:Join us in Appleton on April 22–23 for the 2026 AIA Wisconsin Conference + Expo on Architecture\, one of the largest gatherings of architects\, emerging professionals\, and AEC industry leaders in the state. \nStop by Hush’s tabletop to explore our latest product launches and discover innovative acoustic solutions designed for today’s built environments. Our acoustic specialists will be on-site throughout the event\, ready to connect\, answer questions\, and help bring your next project to life.
URL:https://hushacousticsusa.com/event/aia-wisconsin-conference-expo-on-architecture/
LOCATION:Hilton Appleton Paper Valley & Fox Cities Exhibition Center\, 333 W College Ave\, Appleton\, WI\, 54911\, United States
CATEGORIES:Conferences & Trade Shows
ATTACH;FMTTYPE=image/jpeg:https://hushacousticsusa.com/wp-content/uploads/2026/04/Hush_Events-Page_Wisconsin.jpg
END:VEVENT
BEGIN:VEVENT
DTSTART;TZID=UTC:20260414T090000
DTEND;TZID=UTC:20260414T220000
DTSTAMP:20260425T141956
CREATED:20260407T133111Z
LAST-MODIFIED:20260407T133111Z
UID:11228-1776157200-1776204000@hushacousticsusa.com
SUMMARY:North Dakota Interior Design Show
DESCRIPTION:Join us at the North Dakota Interior Design Show on April 14\, 2026\, at BrewHalla—bringing together designers\, architects\, and industry professionals for a day of inspiration and connection. \nStop by Hush’s tabletop to explore our latest product launches and discover innovative acoustic solutions for today’s built environments. Our acoustic specialist will be on-site throughout the event\, ready to connect\, answer your questions\, and help bring your next project to life.
URL:https://hushacousticsusa.com/event/north-dakota-interior-design-show/
LOCATION:Brewhalla – Market\, 1702 1st Ave N\, Fargo\, 58102\, United States
CATEGORIES:Conferences & Trade Shows
ATTACH;FMTTYPE=image/jpeg:https://hushacousticsusa.com/wp-content/uploads/2026/04/Hush_Events-Page_NDIDS.jpg
END:VEVENT
BEGIN:VEVENT
DTSTART;VALUE=DATE:20251109
DTEND;VALUE=DATE:20251111
DTSTAMP:20260425T141956
CREATED:20250815T212449Z
LAST-MODIFIED:20250815T212449Z
UID:5968-1762646400-1762819199@hushacousticsusa.com
SUMMARY:BDNY
DESCRIPTION:We are so excited to meet you and show our products at Boutique Design New York (BDNY)\, November 9-10th\, 25. Stop by our booth to get a sample of our acoustic material\, get a catalog\, and take a picture. There you will be able to engage with our experts\, and discover how we can help you achieve your project goals in a greener way!
URL:https://hushacousticsusa.com/event/bdny-2/
LOCATION:JACOB K. JAVITS CENTER\, 429 11th Ave\, New York\, NY\, 10001\, United States
CATEGORIES:Conferences & Trade Shows
ATTACH;FMTTYPE=image/jpeg:https://hushacousticsusa.com/wp-content/uploads/2025/08/Hush_Events-BDNY-2025.jpg
END:VEVENT
BEGIN:VEVENT
DTSTART;TZID=UTC:20250518T080000
DTEND;TZID=UTC:20250520T170000
DTSTAMP:20260425T141956
CREATED:20240725T162837Z
LAST-MODIFIED:20250313T202704Z
UID:866-1747555200-1747760400@hushacousticsusa.com
SUMMARY:ICFF
DESCRIPTION:The International Contemporary Furniture Fair (ICFF) is North America’s leading conference for contemporary furnishing design. Engage with our experts\, discover the latest in original and sustainable designs; explore cutting-edge acoustic solutions enhancing both aesthetics and functionality!
URL:https://hushacousticsusa.com/event/icff/
LOCATION:JACOB K. JAVITS CENTER\, 429 11th Ave\, New York\, NY\, 10001\, United States
CATEGORIES:Conferences & Trade Shows
ATTACH;FMTTYPE=image/jpeg:https://hushacousticsusa.com/wp-content/uploads/2024/07/ICFF_Events-Cover_.jpg
END:VEVENT
BEGIN:VEVENT
DTSTART;VALUE=DATE:20250507
DTEND;VALUE=DATE:20250508
DTSTAMP:20260425T141956
CREATED:20250319T152037Z
LAST-MODIFIED:20250319T195001Z
UID:2853-1746576000-1746662399@hushacousticsusa.com
SUMMARY:The Real Deal
DESCRIPTION:Join Hush Acoustics on booth #38 at The Real Deal NYC Forum on May 7th at The Metropolitan Pavilion for expert discussions on key NYC real estate topics\, including office vacancies\, co-op sales\, and Manhattan casinos. The event features live panels\, an expo floor\, and networking opportunities.
URL:https://hushacousticsusa.com/event/the-real-deal/
LOCATION:Metropolitan Pavilion\, 125 W 18th St\, New York\, NY\, 10011\, United States
CATEGORIES:Conferences & Trade Shows
ATTACH;FMTTYPE=image/jpeg:https://hushacousticsusa.com/wp-content/uploads/2025/03/Events-Cover_The-Real-Deal.jpg
ORGANIZER;CN="The Real Deal":MAILTO:events@therealdeal.com
END:VEVENT
BEGIN:VEVENT
DTSTART;TZID=Asia/Dubai:20250312T093000
DTEND;TZID=Asia/Dubai:20250313T173000
DTSTAMP:20260425T141956
CREATED:20240725T164152Z
LAST-MODIFIED:20250211T201533Z
UID:873-1741771800-1741887000@hushacousticsusa.com
SUMMARY:New York Build Expo
DESCRIPTION:Come visit Hush Acoustics at Booth # 1238 at the New York Build\, the largest construction and design show in New York and the tri-state region. Meet our Acoustic experts\, and get to know exclusive product launches\, innovative materials and greener solutions. \nNYBuild Landing Page
URL:https://hushacousticsusa.com/event/new-york-build-expo/
LOCATION:JACOB K. JAVITS CENTER\, 429 11th Ave\, New York\, NY\, 10001\, United States
CATEGORIES:Conferences & Trade Shows
ATTACH;FMTTYPE=image/jpeg:https://hushacousticsusa.com/wp-content/uploads/2024/07/NYB_Events-Cover_.jpg
END:VEVENT
BEGIN:VEVENT
DTSTART;VALUE=DATE:20241110
DTEND;VALUE=DATE:20241112
DTSTAMP:20260425T141956
CREATED:20240724T165128Z
LAST-MODIFIED:20241010T165216Z
UID:819-1731196800-1731369599@hushacousticsusa.com
SUMMARY:BDNY
DESCRIPTION:We are so excited to meet you and show our products at Boutique Design New York (BDNY)\, November 10-11th\, 24. Stop by our Booth #879 to get a sample of our acoustic material\, get a catalog\, and take a picture. There you will be able to engage with our experts\, and discover how we can help you achieve your project goals in a greener way!
URL:https://hushacousticsusa.com/event/bdny/
LOCATION:JACOB K. JAVITS CENTER\, 429 11th Ave\, New York\, NY\, 10001\, United States
CATEGORIES:Conferences & Trade Shows
ATTACH;FMTTYPE=image/jpeg:https://hushacousticsusa.com/wp-content/uploads/2024/07/BDNY_Events-Cover_.jpg
END:VEVENT
END:VCALENDAR